BEGIN:VCALENDAR
VERSION:2.0
PRODID:-//wp-events-plugin.com//6.5.2//EN
TZID:America/Denver
X-WR-TIMEZONE:America/Denver
BEGIN:VEVENT
UID:3243@frontrangebears.org
DTSTART;TZID=America/Denver:20250927T180000
DTEND;TZID=America/Denver:20250927T210000
DTSTAMP:20250922T040251Z
URL:https://www.frontrangebears.org/events/chili-cookoff-saturday-9-27-25/
SUMMARY:Chili Cookoff - Saturday 9/27/25
DESCRIPTION:\n\nWhen: 09/27/2025\n\nTime: 6:00 - 9:00\n\nWhere: 7530 W. 38t
 h\, Wheat Ridge\, Co\n\nWhat to bring: Your favorite chili if you want to 
 enter contest or a side dish.&nbsp\;\n\nCost:&nbsp\; $5.00
LOCATION:Chili Cook Off\, 7530 W. 38th Ave.\, Wheat Ridge\, CO\, 80033\, Un
 ited States
X-APPLE-STRUCTURED-LOCATION;VALUE=URI;X-ADDRESS=7530 W. 38th Ave.\, Wheat R
 idge\, CO\, 80033\, United States;X-APPLE-RADIUS=100;X-TITLE=Chili Cook Of
 f:geo:0,0
END:VEVENT
BEGIN:VTIMEZONE
TZID:America/Denver
X-LIC-LOCATION:America/Denver
BEGIN:DAYLIGHT
DTSTART:20250309T030000
TZOFFSETFROM:-0700
TZOFFSETTO:-0600
TZNAME:MDT
END:DAYLIGHT
END:VTIMEZONE
END:VCALENDAR