BEGIN:VCALENDAR
VERSION:2.0
PRODID:-//wp-events-plugin.com//6.5.2//EN
TZID:America/Denver
X-WR-TIMEZONE:America/Denver
BEGIN:VEVENT
UID:3179@frontrangebears.org
DTSTART;TZID=America/Denver:20250220T183000
DTEND;TZID=America/Denver:20250220T203000
DTSTAMP:20250329T193716Z
URL:https://www.frontrangebears.org/events/dine-out-630-2025-02-20/
SUMMARY:Dine Out - 6:30
DESCRIPTION:\n\nSign up here for Dine Out!!\n\n&nbsp\;
END:VEVENT
BEGIN:VTIMEZONE
TZID:America/Denver
X-LIC-LOCATION:America/Denver
BEGIN:STANDARD
DTSTART:20241103T010000
TZOFFSETFROM:-0600
TZOFFSETTO:-0700
TZNAME:MST
END:STANDARD
END:VTIMEZONE
END:VCALENDAR