BEGIN:VCALENDAR
VERSION:2.0
PRODID:-//wp-events-plugin.com//6.5.2//EN
TZID:America/Denver
X-WR-TIMEZONE:America/Denver
BEGIN:VEVENT
UID:2962@frontrangebears.org
DTSTART;TZID=America/Denver:20210612T160000
DTEND;TZID=America/Denver:20210612T200000
DTSTAMP:20210603T220313Z
URL:https://www.frontrangebears.org/events/front-range-bears-2021-pride-bb
 q/
SUMMARY:Front Range Bears 2021 Pride BBQ
DESCRIPTION:\n\n&nbsp\;\nCome join the Front Range Bears and kick off the p
 ost Pandemic period. \nThe club is having a Pride BBQ below are the detail
 s\nThere will be a limit of 50 people to the event!\n\n\n\nDate:  \n06/1
 2/2021\n\n\nCost:   \n$0.00\n\n\nTime:   \n4:00 - 8:00\n\n\nLocation
 :   \nMembers private address to be sent out to those who sign up.\n\n\
 nClub will provide:   \nHamburger\, brat\, soft drink and Beer.\n\n\nWh
 at you should bring:\nLast name begins with A - L a side dish\nLast name b
 egins with M - Z a dessert\n\n\n\nChair to sit on!\n\n\n
END:VEVENT
BEGIN:VTIMEZONE
TZID:America/Denver
X-LIC-LOCATION:America/Denver
BEGIN:DAYLIGHT
DTSTART:20210314T030000
TZOFFSETFROM:-0700
TZOFFSETTO:-0600
TZNAME:MDT
END:DAYLIGHT
END:VTIMEZONE
END:VCALENDAR