BEGIN:VCALENDAR
VERSION:2.0
PRODID:-//wp-events-plugin.com//6.5.2//EN
TZID:America/Denver
X-WR-TIMEZONE:America/Denver
BEGIN:VEVENT
UID:3242@frontrangebears.org
DTSTART;TZID=America/Denver:20250802T130000
DTEND;TZID=America/Denver:20250802T150000
DTSTAMP:20250729T160108Z
URL:https://www.frontrangebears.org/events/ice-cream-social/
SUMMARY:Ice Cream Social
DESCRIPTION:\n\n\n\n\nCome join the Front Range Bears&nbsp\; at the ice cre
 am social\n\n\n\n\nDate: 8/2/25\n\n\n\n\nTime: 1:00PM\n\n\n\n\nLocation: L
 akewood address to be sent to registered attendees\n\n\n\n\nNo cost!\n\n\n
 \n\nClub will provide ice cream\, you bring the topings\n\n\n\n
END:VEVENT
BEGIN:VTIMEZONE
TZID:America/Denver
X-LIC-LOCATION:America/Denver
BEGIN:DAYLIGHT
DTSTART:20250309T030000
TZOFFSETFROM:-0700
TZOFFSETTO:-0600
TZNAME:MDT
END:DAYLIGHT
END:VTIMEZONE
END:VCALENDAR