BEGIN:VCALENDAR
VERSION:2.0
PRODID:-//wp-events-plugin.com//6.5.2//EN
TZID:America/Denver
X-WR-TIMEZONE:America/Denver
BEGIN:VEVENT
UID:3266@frontrangebears.org
DTSTART;TZID=America/Denver:20260517T150000
DTEND;TZID=America/Denver:20260517T190000
DTSTAMP:20260424T164245Z
URL:https://www.frontrangebears.org/events/may-beer-bust-5-17-300-700/
SUMMARY:May Beer Bust - 5/17 - 3:00 - 7:00
DESCRIPTION:\n\nCome to the May Beer bust at Buddies! We need 6 people to h
 elp pour\n\nDate: 5/17/26\n\nTime: 3:00
LOCATION:Buddies Bar and Grill\, 504 E. Colfax Ave\, Dever\, Co\, United St
 ates
X-APPLE-STRUCTURED-LOCATION;VALUE=URI;X-ADDRESS=504 E. Colfax Ave\, Dever\,
  Co\, United States;X-APPLE-RADIUS=100;X-TITLE=Buddies Bar and Grill:geo:0
 ,0
END:VEVENT
BEGIN:VTIMEZONE
TZID:America/Denver
X-LIC-LOCATION:America/Denver
BEGIN:DAYLIGHT
DTSTART:20260308T030000
TZOFFSETFROM:-0700
TZOFFSETTO:-0600
TZNAME:MDT
END:DAYLIGHT
END:VTIMEZONE
END:VCALENDAR