BEGIN:VCALENDAR
VERSION:2.0
PRODID:-//wp-events-plugin.com//6.5.2//EN
TZID:America/Denver
X-WR-TIMEZONE:America/Denver
BEGIN:VEVENT
UID:3072@frontrangebears.org
DTSTART;TZID=America/Denver:20221014T000000
DTEND;TZID=America/Denver:20221016T000000
DTSTAMP:20221013T175817Z
URL:https://www.frontrangebears.org/events/octobearfest-2022/
SUMMARY:Octobearfest 2022
DESCRIPTION:\n\n 	Members – $40.00\n 	Non – Members – $50.00\n 	What 
 you get:\n\n 	Saturday Putt Putt golf\n 	Dinner\n 	One Drink\n\n\n
END:VEVENT
BEGIN:VTIMEZONE
TZID:America/Denver
X-LIC-LOCATION:America/Denver
BEGIN:DAYLIGHT
DTSTART:20220313T030000
TZOFFSETFROM:-0700
TZOFFSETTO:-0600
TZNAME:MDT
END:DAYLIGHT
END:VTIMEZONE
END:VCALENDAR